BEGIN:VCALENDAR
VERSION:2.0
PRODID:-//eventon.com NONSGML v1.0//EN
CALSCALE:GREGORIAN
METHOD:PUBLISH
BEGIN:VEVENT
UID:69e89ecf6f22c
DTSTAMP:20260422T101127Z
DTSTART:20260416T130000Z
DTEND:20260416T143000Z
LOCATION:
SUMMARY:Zwergentreff
DESCRIPTION:Eure Kinder sind schon 3 Jahre oder älter\,  aber ein Kita-Pla
 tz ist noch nicht in Sicht? Kommt zu uns und trefft und vernetzt euch. Hier
  bekommen eure Kinder die Möglichkeit\,  erste Gruppenerfahrungen zu mache
 n. Wir spielen zusammen\,  singen\,  basteln\,  erzählen oder lauschen Ges
 chichten … Eure Wünsche bestimmen das Programm.\nhttps://www.familienzen
 trum-rheinfelden.de/events/zwergentreff/
URL:https://www.familienzentrum-rheinfelden.de/events/zwergentreff/
END:VEVENT
END:VCALENDAR