BEGIN:VCALENDAR
VERSION:2.0
PRODID:-//eventon.com NONSGML v1.0//EN
CALSCALE:GREGORIAN
METHOD:PUBLISH
BEGIN:VEVENT
UID:69eb3b011a84e
DTSTAMP:20260424T094225Z
DTSTART:20260424T170000Z
DTEND:20260424T180000Z
LOCATION:
SUMMARY:Klangreise
DESCRIPTION:Mit meinen Klangschalen möchte ich Dich einladen\,  auf eine K
 langreise zu gehen. Den Alltag für einen Moment hinter sich lassen\,  Ener
 gie auftanken\,  Geborgenheit\,  Gelassenheit und Entspannung erfahren. Kla
 ngschalen können zur Unterstützung der Selbstheilungskräfte beitragen.Le
 itung: Renate QuaßKosten: 15 €\,  Teilnehmerzahl 3 bis max. 6 PersonenBi
 tte mitbringen: Kissen und eine Decke.Nach einer[..]\nhttps://www.familienz
 entrum-rheinfelden.de/events/klangreise-4/
URL:https://www.familienzentrum-rheinfelden.de/events/klangreise-4/
END:VEVENT
END:VCALENDAR