BEGIN:VCALENDAR
VERSION:2.0
PRODID:-//eventon.com NONSGML v1.0//EN
CALSCALE:GREGORIAN
METHOD:PUBLISH
BEGIN:VEVENT
UID:69eb75d8e3acd
DTSTAMP:20260424T135328Z
DTSTART:20260506T080000Z
DTEND:20260506T100000Z
LOCATION:
SUMMARY:Stricken und Häkeln
DESCRIPTION:Um Strümpfe oder Babysöckchen zu stricken oder um kleine Kusc
 heltiere zu häkeln\,  braucht es etwas Geschick. Habt ihr schon Erfahrung 
 oder wollt ihr es gerne lernen? Egal\,  gemeinsam macht es einfach Spaß! G
 leichzeitig können schöne Geschenke entstehen oder etwas Kuscheliges für
  einen selbst. Ob ihr einmal oder regelmäßig kommt\,  steht[..]\nhttps://
 www.familienzentrum-rheinfelden.de/events/stricken-und-haekeln/
URL:https://www.familienzentrum-rheinfelden.de/events/stricken-und-haekeln/
END:VEVENT
END:VCALENDAR