BEGIN:VCALENDAR
VERSION:2.0
PRODID:-//eventon.com NONSGML v1.0//EN
CALSCALE:GREGORIAN
METHOD:PUBLISH
BEGIN:VEVENT
UID:69e8a27511fd5
DTSTAMP:20260422T102701Z
DTSTART:20260428T080000Z
DTEND:20260428T215000Z
LOCATION:
SUMMARY:Mehr Freude\,  weniger Stress in der Erziehung
DESCRIPTION:Wer kennt das nicht: das Kind will nicht so wie wir\,  wir sind
  genervt\,  das Kind legt noch einen drauf\,  man dreht sich im Kreis. Wie 
 entkommen wir diesem Kreislauf\,  ohne dass es zur Eskalation kommt?Mechthi
 ld Käuflin-Lamott (Sozialpädagogin\,  Kess-Trainerin und systemische Paar
 - und Familientherapeutin) gibt uns Impulse\,  wie wir solche[..]\nhttps://
 www.familienzentrum-rheinfelden.de/events/mehr-freude-weniger-stress-in-der
 -erziehung-2/
URL:https://www.familienzentrum-rheinfelden.de/events/mehr-freude-weniger-stress-in-der-erziehung-2/
END:VEVENT
END:VCALENDAR