BEGIN:VCALENDAR
VERSION:2.0
PRODID:-//eventon.com NONSGML v1.0//EN
CALSCALE:GREGORIAN
METHOD:PUBLISH
BEGIN:VEVENT
UID:69eb77c12c514
DTSTAMP:20260424T140137Z
DTSTART:20260504T080000Z
DTEND:20260504T100000Z
LOCATION:
SUMMARY:Sozialberatung
DESCRIPTION:Sozialberatung für Frauen und Männer\,  mit und ohne Kind\,  
 gleich welchenAlters. Hier finden Sie Unterstützung in verschiedenen sozia
 len Bereichen: Kurberatung (Mutter/Vater-Kur\,  Mutter/Vater-Kind-Kur)Frage
 n zu Voraussetzungen und Verfahren Schwangerenberatung\,  z.B. Fragen zu ge
 setzlichen und familienförderndenLeistungen\,  zu Familie\,  Partnerschaft
  und die Zeit nach der Geburt Allgemeine Soziale Beratung\,  z.B. Fragen zu
 Altenhilfe\,  Bürgergeld und[..]\nhttps://www.familienzentrum-rheinfelden.
 de/events/sozialberatung/
URL:https://www.familienzentrum-rheinfelden.de/events/sozialberatung/
END:VEVENT
END:VCALENDAR