BEGIN:VCALENDAR
VERSION:2.0
PRODID:-//eventon.com NONSGML v1.0//EN
CALSCALE:GREGORIAN
METHOD:PUBLISH
BEGIN:VEVENT
UID:69e4d596262ce
DTSTAMP:20260419T131606Z
DTSTART:20260710T073000Z
DTEND:20260710T083000Z
LOCATION:
SUMMARY:Workshop: Beikosteinführung
DESCRIPTION:Sie haben einen Säugling? Sie möchten Ihrem Kind die erste Na
 hrung geben oder haben gerade damit begonnen? Sie haben Fragen oder fühlen
  sich unsicher? Dann sind Sie in diesem Workshop richtig.Gemeinsam stellen 
 wir die Mahlzeiten vom ersten Löffelchen bis zum Ende des ersten Lebensjah
 res zusammen. Sie lernen Rezepte und geeignete[..]\nhttps://www.familienzen
 trum-rheinfelden.de/events/workshop-beikosteinfuehrung-2/
URL:https://www.familienzentrum-rheinfelden.de/events/workshop-beikosteinfuehrung-2/
END:VEVENT
END:VCALENDAR